BEGIN:VCALENDAR
VERSION:2.0
PRODID:-//wp-events-plugin.com//7.2.3.1//EN
BEGIN:VEVENT
UID:4@craftedministries.com
DTSTART;TZID=America/Denver:20241005T103000
DTEND;TZID=America/Denver:20241005T120000
DTSTAMP:20240912T014739Z
URL:https://www.craftedministries.com/events/poemspumpkins/
SUMMARY:Painted Pumpkins & Poems
DESCRIPTION:Pay attention with us as we enjoy the outdoors\, read a poem\, 
 and paint a mini pumpkin grown in Kari's backyard.
ATTACH;FMTTYPE=image/jpeg:https://www.craftedministries.com/wp-content/upl
 oads/2024/09/gonzalo-sanchez-OulqZmkXRxk-unsplash-scaled.jpg
END:VEVENT
BEGIN:VTIMEZONE
TZID:America/Denver
X-LIC-LOCATION:America/Denver
BEGIN:DAYLIGHT
DTSTART:20240310T030000
TZOFFSETFROM:-0700
TZOFFSETTO:-0600
TZNAME:MDT
END:DAYLIGHT
END:VTIMEZONE
END:VCALENDAR