BEGIN:VCALENDAR
VERSION:2.0
PRODID:-//wp-events-plugin.com//7.2.3.1//EN
BEGIN:VEVENT
UID:11@craftedministries.com
DTSTART;TZID=America/Denver;VALUE=DATE:20260914
DTEND;TZID=America/Denver;VALUE=DATE:20260921
DTSTAMP:20260313T011349Z
URL:https://www.craftedministries.com/events/restoration-week/
SUMMARY:Restoration Week
DESCRIPTION:Come away to the mountains of Italy for a week!
ATTACH;FMTTYPE=image/jpeg:https://www.craftedministries.com/wp-content/upl
 oads/2026/03/IMG_3118-scaled.jpeg
END:VEVENT
BEGIN:VTIMEZONE
TZID:America/Denver
X-LIC-LOCATION:America/Denver
BEGIN:DAYLIGHT
DTSTART:20260308T030000
TZOFFSETFROM:-0700
TZOFFSETTO:-0600
TZNAME:MDT
END:DAYLIGHT
END:VTIMEZONE
END:VCALENDAR