BEGIN:VCALENDAR
VERSION:2.0
PRODID:-//wp-events-plugin.com//7.2.3.1//EN
BEGIN:VEVENT
UID:10@craftedministries.com
DTSTART:20250104T003000Z
DTEND:20250104T023000Z
DTSTAMP:20241209T190218Z
URL:https://www.craftedministries.com/events/setting-the-course/
SUMMARY:Setting the Course
DESCRIPTION:Spend time in reflection seeing where you have been and dream b
 ig with conversations around sailboats with Carol Eliya\, a friend and mis
 sionary from around the Mediterranean Sea.
ATTACH;FMTTYPE=image/jpeg:https://www.craftedministries.com/wp-content/upl
 oads/2024/11/e0cf5a08-f3ef-4a22-9295-722841813a05-2.jpg
END:VEVENT
END:VCALENDAR