BEGIN:VCALENDAR
VERSION:2.0
PRODID:-//wp-events-plugin.com//7.2.3.1//EN
BEGIN:VEVENT
UID:6@craftedministries.com
DTSTART;TZID=America/Denver:20240930T183000
DTEND;TZID=America/Denver:20240930T203000
DTSTAMP:20240911T233917Z
URL:https://www.craftedministries.com/events/the-power-of-art-workshop/
SUMMARY:The Power of Art Workshop
DESCRIPTION:Learn how art combined with poetry and scripture can be used as
  a tool for personal growth.\nIs there a theme you would like to work on i
 n your own life?\nSee how you can “curate” your own collection on a th
 eme of your choosing\, and create your own two-sided page.
ATTACH;FMTTYPE=image/jpeg:https://www.craftedministries.com/wp-content/upl
 oads/2024/09/Edgar-Alwin-Payne-Sycamore-in-Autumn-Orange-County-Park-C.-19
 17.jpg
END:VEVENT
BEGIN:VTIMEZONE
TZID:America/Denver
X-LIC-LOCATION:America/Denver
BEGIN:DAYLIGHT
DTSTART:20240310T030000
TZOFFSETFROM:-0700
TZOFFSETTO:-0600
TZNAME:MDT
END:DAYLIGHT
END:VTIMEZONE
END:VCALENDAR