BEGIN:VCALENDAR
VERSION:2.0
PRODID:-//wp-events-plugin.com//7.2.3.1//EN
BEGIN:VEVENT
UID:8@craftedministries.com
DTSTART;TZID=America/Denver:20241101T180000
DTEND;TZID=America/Denver:20241101T200000
DTSTAMP:20241029T010419Z
URL:https://www.craftedministries.com/events/the-power-of-music/
SUMMARY:The Power of Music
DESCRIPTION:Matt Weesner is a professional musician and he believes that mu
 sic shapes the landscape of our environments. Listen in as he and his wife
  Teresa share the stories from their life as Matt plays the music from tho
 se stories. Hear about the development of the great musician Bach and how 
 that has impacted Matt's ethos in this form of soul-shaping melody.
ATTACH;FMTTYPE=image/jpeg:https://www.craftedministries.com/wp-content/upl
 oads/2024/09/IMG_8048.jpg
LOCATION:Downing Street Barn\, 3685 S Downing Street\, Englewood\, CO\, Uni
 ted States
X-APPLE-STRUCTURED-LOCATION;VALUE=URI;X-ADDRESS=3685 S Downing Street\, Eng
 lewood\, CO\, United States;X-APPLE-RADIUS=100;X-TITLE=Downing Street Barn
 :geo:0,0
END:VEVENT
BEGIN:VTIMEZONE
TZID:America/Denver
X-LIC-LOCATION:America/Denver
BEGIN:DAYLIGHT
DTSTART:20240310T030000
TZOFFSETFROM:-0700
TZOFFSETTO:-0600
TZNAME:MDT
END:DAYLIGHT
END:VTIMEZONE
END:VCALENDAR